BEGIN:VCALENDAR
VERSION:2.0
PRODID:-//École Pratique de la Nature et des Savoirs - ECPv6.2.6//NONSGML v1.0//EN
CALSCALE:GREGORIAN
METHOD:PUBLISH
X-WR-CALNAME:École Pratique de la Nature et des Savoirs
X-ORIGINAL-URL:https://www.ecolenaturesavoirs.com
X-WR-CALDESC:évènements pour École Pratique de la Nature et des Savoirs
REFRESH-INTERVAL;VALUE=DURATION:PT1H
X-Robots-Tag:noindex
X-PUBLISHED-TTL:PT1H
BEGIN:VTIMEZONE
TZID:Europe/Paris
BEGIN:DAYLIGHT
TZOFFSETFROM:+0100
TZOFFSETTO:+0200
TZNAME:CEST
DTSTART:20260329T010000
END:DAYLIGHT
BEGIN:STANDARD
TZOFFSETFROM:+0200
TZOFFSETTO:+0100
TZNAME:CET
DTSTART:20261025T010000
END:STANDARD
END:VTIMEZONE
BEGIN:VEVENT
DTSTART;TZID=Europe/Paris:20260702T143000
DTEND;TZID=Europe/Paris:20260707T160000
DTSTAMP:20260423T185401
CREATED:20260123T145936Z
LAST-MODIFIED:20260216T132429Z
UID:8606-1783002600-1783440000@www.ecolenaturesavoirs.com
SUMMARY:Des voix de la terre aux voies de la guérison module 1\, juillet 2026
DESCRIPTION:Cultiver le lien \nNature\, résilience…\nNous sommes des vivants\, parmi les vivants\, mais nous l’avons oublié. Il faudrait remettre la nature dans nos actes et nos pensées. Retrouver le vivant en nous et autour de nous\, mais comment faire\, voilà la question. \nLes crises\, qu’elles soient sanitaires ou climatiques\, sont autant l’illustration de cet oubli que le signe annonciateur des déséquilibres majeurs qui vont se multiplier. \nPendant ces 5 jours sur le site immersion nature de l’EpNS\, venez à votre rencontre\, vous mettre à l’écoute de ce qui « est »\, la nature en nous et autour de nous. \nUn chemin de résilience qui vous permettra de découvrir et pratiquer ces règles immuables qui fondent la vie\, ce que les Kogis ont appelé les « lois de Sé » ou lois des origines. \nPendant ces 5 jours d’immersion nature venez à votre rencontre\, vous mettre à l’écoute de ce qui « est »\, la nature en nous et autour de nous. Un chemin de résilience qui vous permettra de découvrir et pratiquer ces règles immuables qui fondent la vie\, ce que les indiens Kogis ont appelé les « lois de Sé »\, ou lois des origines… \n…et transition\nRepartir comme avant ? Tout miser sur la technologie\, parier sur la décroissance ? Nous le savons\, ce n’est pas en faisant plus ou mieux de la même chose que nous obtiendrons des résultats différents. Il faut imaginer autre chose\, un « autre chose »\, qui rééquilibre le féminin et le masculin\, qui retrouve des liens d’alliance avec cette nature qui nous porte et nous fait vivre. \nQue nous en disent les traditions Kogis et Aruaca ? Comment réintégrer ces principes de vie dans notre quotidien ? C’est un art à redécouvrir\, celui de l’éveil et de la résilience. La voie du HOZHO chez les indiens Navajo\, ZIGONESHI chez les Kogis. \nC’est le chemin de la vie et de la joie. \n			\n			\n				\n				\n				\n				\n				\n				Intentions\n\nVivre un temps « intensément nature » de reconnexion à l’essence-ciel.\nRevisiter son parcours de vie\, identifier les temps/ étapes de déconnexions / reconnexion.\nIdentifier\, conscientiser les principes qui fondent la vie\, dont la nature est l’expression.\nSe reconnecter à la liberté joyeuse de l’enfant intérieur.\nDévelopper ses capacités d’autonomie et de responsabilité en nature.\n\nAnimation\n\nÉric Julien\nNatalène Morel\n\nPrincipes pédagogiques\nAvec le tissage des principes de vie universels qui sous-tendent les cultures kogis et les pratiques du bouddhisme ZEN. \nDes Parkours qui associent apports théoriques\, expérience « nature »\, temps de co-construction\, travail personnel\, présence de grands témoins et mise en résonance de nos parcours singuliers\, avec les principes de vie universels qui sous-tendent la culture Kogi. \nInformations pratiques\n\nDates : du jeudi 2 au mardi 7 juillet 2026\nLieu : La Comtesse\, site d’immersion nature dans le Haut-Diois\nCoût par personne : 780€ (encadrement\, logistique\, repas\, supports pédagogiques)\nMaximum 15 participants\n\nInscription\n\nFiche technique\nConditions générales et particulières\nBulletin d’adhésion à l’association (obligatoire)\n\nPour toute question\, vous pouvez nous contacter à l’adresse : inscriptions@epns.fr.
URL:https://www.ecolenaturesavoirs.com/event/des-voix-de-la-terre-aux-voies-de-la-guerison-cultiver-le-lien-juillet-2026/
LOCATION:La Comtesse\, Chemin du Villard\, Val-Maravel France\, 26310\, France
CATEGORIES:epns,La voie (x) de la nature
END:VEVENT
BEGIN:VEVENT
DTSTART;TZID=Europe/Paris:20260724T140000
DTEND;TZID=Europe/Paris:20260730T140000
DTSTAMP:20260423T185401
CREATED:20260219T160519Z
LAST-MODIFIED:20260221T202344Z
UID:8796-1784901600-1785420000@www.ecolenaturesavoirs.com
SUMMARY:Écouter la Terre pour trouver son chemin - juillet 2026
DESCRIPTION:Reconstruire notre boussole intérieure…\npour naviguer dans un monde incertain\n			\n				\n				\n				Écouter la Terre pour trouver son chemin\nPour les traditions des peuples racines\, la Terre nous parle. C’est elle qui porte la connaissance et le rôle de l’humain est d’apprendre à l’écouter pour savoir qui il est\, où et comment agir en symbiose avec elle. \nÀ travers des pratiques ancestrales de reconnexion en nature\, rituels\, peintures de sable\, lecture de territoire\, exploration des contes etc.\, nous explorerons les voies de la reconnexion au Vivant inspirées par les peuples racines\, pour : \n\npercevoir comment la Terre\, le territoire\, nous montrent des chemins d’harmonie ;\nretrouver notre vraie place d’humains gardiens du Vivant\, tout en y pistant notre propre place\, notre propre « médecine »\, notre contribution ;\nredevenir la Nature\, et réparer nos liens avec elle\, en soi\, autour de soi\, et cheminer en conscience sur la « Voie de la Beauté »\, comme la nomment les Navajos.\n\n			\n				\n				\n				Le Cercle des Passeurs\nLa vie est mouvement\, étapes\, transformations et renouveau. Nous vivons une époque incertaine\, dont les soubresauts indiquent le passage d’un état à un autre\, un moment où les possibles s’ouvrent vers un renouveau. \nPour accompagner ce passage\, le Cercle des Passeurs propose de cheminer sur la voie de notre « boussole intérieure »\, celle qui sommeille en nous et nous relie au monde vivant\, dont nos cultures ont égaré la connaissance. Cette connaissance inscrite et inspirée de la nature a été préservée par les sagesses et philosophies racines. Elle nous apprend à naviguer « au cœur des vents ». \nL’intention n’est pas de copier les peuples racines\, mais de défricher nos chemins intérieurs\, en s’inspirant de ces sagesses et philosophies\, pour réveiller l’indigène qui sommeille en nous. Pour contribuer\, pas à pas\, en réenracinant nos intériorités\, à restaurer une culture symbiotique. Et redevenir « Tous indigènes ! » (titre de la newsletter du Cercle). \nLe Cercle\, c’est aussi un espace où le collectif humain\, réuni autour de la Terre qui nous rassemble\, prend tout son sens\, pour apprendre ensemble à prendre mieux soin\, et s’accompagner\, chacun\, à mieux (re)trouver notre place dans cet écosystème plus grand dont nous sommes. Pour cela\, chaque Cercle est l’occasion de revisiter quelques-unes de ces sagesses racines et leurs principes de vie\, de vivre par l’expérience des pratiques qui en sont inspirées\, et de « refaire tribu ». \nPour les traditions des peuples racines\, la Terre nous parle. C’est elle qui porte la connaissance et le rôle de l’humain est d’apprendre à l’écouter pour savoir qui il est\, où et comment agir en symbiose avec elle. \nÀ travers des pratiques ancestrales de reconnexion en nature\, rituels\, peintures de sable\, lecture de territoire\, exploration des contes etc.\, nous explorerons les voies de la reconnexion au Vivant inspirées par les peuples racines.  \n\nPour percevoir comment la Terre\, le territoire\, nous montrent des chemins d’harmonie.\nPour retrouver notre vraie place d’humains gardiens du Vivant\, tout en y pistant notre propre place\, notre propre « médecine »\, notre contribution.\nPour redevenir la Nature\, et réparer nos liens avec elle\, en soi\, autour de soi\, et cheminer en conscience sur la « Voie de la Beauté »\, comme la nomment les Navajos.\n\n			\n				\n				\n				\n			\n				\n				\n				Intervenants\n\nFrederika Van Ingen « J’ai grandi au cœur de la nature entre forêts et étangs\, puis me suis intéressée\, par mon métier de journaliste\, à l’écologie\, la science\, la médecine\, la psychologie\, le développement personnel. Avant de découvrir tous ces sujets réunis avec une grande cohérence dans les sagesses des peuples racines. »\nAuteure et journaliste\, facilitatrice\, passeuse et initiatrice de ce Cercle\, Frederika a publié Sagesses d’ailleurs pour vivre aujourd’hui (éd. Les Arènes/J’ai lu)\, Ce que les peuples racines ont à nous dire de la santé des hommes et de la santé du monde (éd. LLL)\, 101 façons de se reconnecter à la nature (éd. Les Arènes)\, Et si la Terre nous parlait\, huit principes de inspirés des peuples racines (éd. LLL). Site Internet \n\nÉric Julien « Convaincu que c’est à la croisée des mondes que surgissent les possibles\, j’ai contribué à créer l’École pratique de la Nature et des Savoirs. Géographe des imaginaires\, je tente de retrouver les fils ténus qui nous relient au vivant\, et dont nous sommes les exilés. Pour cela\, j’essaie de garder l’esprit curieux et vagabond. »\nPasseur de la tradition kagaba (Kogi)\, Éric a été sauvé d’un œdème pulmonaire en Colombie en 1985 par les Kagabas. Depuis\, il travaille avec son association Tchendukua à racheter leurs terres ancestrales dans la Sierra Nevada de Santa Marta pour sauvegarder leur mode d’existence. Auteur notamment de : Le Chemin des neufs mondes\, et Le chemin des pierres qui parlent. \n\nInnocent Yapi « J’ai grandi en Côte d’Ivoire sur les bords de la lagune d’Abidjan. Enfant\, j’étais très bavard me disait ma mère. Je me souviens que j’aimais m’asseoir au pied des anciens à écouter la parole des contes et les silences. Mais c’est sur les bords de l’Ill à Strasbourg que j’ai eu la révélation du don mes ancêtres : la parole. Depuis lors\, porté par la parole\, pétri de mes deux cultures\, j’ai appris à f aire confiance aux contes et à l’art de conter aussi bien pour transmettre les enseignements des anciens que pour accompagner chacun avec amour\, délicatesse et respect vers la beauté de son Être. »\nYapi est artiste conteur et formateur aux arts de contes. Cie Les contes du Touraco vert \n\nLorenza Garcia « Bercée depuis l’enfance par les légendes amérindiennes\, la musique et les arts\, c’est par le chant et les peintures de sable que le cours de ma vie a changé. En 1996\, j’ai rencontré les Diné qui signifie « Le Peuple » en langue navajo ; ils ont accepté de m’initier à leur tradition. Au fil des années\, j’ai compris qu’au-delà d’une manifestation artistique\, leurs chants nous conduisent dans le monde mystérieux de la Beauté et de la guérison. Aujourd’hui\, je partage ma vie entre la France et les États-Unis\, pour transmettre\, avec leur accord\, leur vision du chant qui guérit la terre. »\nLorenza transmet dans ses ateliers de chants et de peintures de sable la philosophie Hozho\, la beauté en langue navajo. Auteure\, en 2024\, de Vingt ans auprès des Navajos\, éd. Mama\, du CD La beauty\, et Hope2you\, réalisatrice de Le chant qui guérit la Terre\, et Navajo Songline. Navajo-France \n\n\n			\n			\n				\n				\n			\n				\n				\n				\n				\n				\n				\n				Informations pratiques\n\nLieu : La Comtesse\, Val-Maravel\, Haut-Diois\, Drôme\nRepas : nourriture végétarienne\, sans alcool\nHébergement : sous tente (non fournie) ou dans des chambres communes type refuge.\nPrix : 895€ (comprend le coût pédagogique\, l’hébergement en pension complète\, et la participation à la location du lieu).\n\n			\n			\n				\n				\n				\n				\n				\n				Plaquette\nTélécharger la fiche technique \nInscription\nFormulaire d’inscription
URL:https://www.ecolenaturesavoirs.com/event/ecouter-la-terre-pour-trouver-son-chemin-juillet-2026/
LOCATION:La Comtesse\, Chemin du Villard\, Val-Maravel France\, 26310\, France
CATEGORIES:Le Cercle des passeurs,Partenaire
END:VEVENT
END:VCALENDAR