BEGIN:VCALENDAR
VERSION:2.0
PRODID:-//École Pratique de la Nature et des Savoirs - ECPv6.2.6//NONSGML v1.0//EN
CALSCALE:GREGORIAN
METHOD:PUBLISH
X-WR-CALNAME:École Pratique de la Nature et des Savoirs
X-ORIGINAL-URL:https://www.ecolenaturesavoirs.com
X-WR-CALDESC:évènements pour École Pratique de la Nature et des Savoirs
REFRESH-INTERVAL;VALUE=DURATION:PT1H
X-Robots-Tag:noindex
X-PUBLISHED-TTL:PT1H
BEGIN:VTIMEZONE
TZID:Europe/Paris
BEGIN:DAYLIGHT
TZOFFSETFROM:+0100
TZOFFSETTO:+0200
TZNAME:CEST
DTSTART:20250330T010000
END:DAYLIGHT
BEGIN:STANDARD
TZOFFSETFROM:+0200
TZOFFSETTO:+0100
TZNAME:CET
DTSTART:20251026T010000
END:STANDARD
END:VTIMEZONE
BEGIN:VEVENT
DTSTART;TZID=Europe/Paris:20250711T110000
DTEND;TZID=Europe/Paris:20250714T160000
DTSTAMP:20260424T085420
CREATED:20250415T013041Z
LAST-MODIFIED:20250415T013044Z
UID:8548-1752231600-1752508800@www.ecolenaturesavoirs.com
SUMMARY:Arbres et chemins - Itinérance et présence en Drôme sauvage
DESCRIPTION:Avec Johanne nous nous faisons une joie de vous retrouver ! \nMarcher hors du temps\, hors du monde\, pratiquer le Qi Gong dans une hêtraie centenaire\, une méditation à côté d’un torrent. \nVivre des temps de partage en cercle\, des repas joyeux\, et avoir du temps pour soi.  \nNous avons pensé ce séjour comme une parenthèse ressourçante\, dans un monde où tout va si vite\, s’offrir 4 journées dans une bulle de nature. La marche nous permettant de nous déplacer pour découvrir de nouveaux paysages\, un déplacement doux et en présence pour ralentir et profiter pleinement du moment présent.  \nLes pratiques de Qi Gong et de méditation pour habiter notre corps\, être dans ses sensations\, à l’écoute\, aider à dénouer des tensions profondes\, favoriser la libre respiration et la circulation de l’énergie\, la pratique proposée est très douce\, accessible à tous et ne nécessite aucun prérequis.  \nDes enseignements pour continuer notre chemin en découvrant d’autres manières d’être en lien avec soi\, avec l’autre et avec le territoire.  \nEt des temps de partage pour tisser des liens simples et authentiques.  \nUn stage sur mesure encadré par 2 professionnelles passionnées : Johanne et Natalène\, qui seront aux petits soins pour vous.  \nProgramme\nLes journées proposées se feront en plusieurs temps :  \n★ des temps de pratique du Qi Gong ★ des randonnées\, avec une moyenne de 3 à 5 heures de marche douce par jour ★ des temps pour se ressourcer\, des ateliers de bain de forêt\, des temps pour contempler\, des siestes au soleil\, de la méditation\, de la pleine présence ★ des temps de partage \n			\n				\n				\n				\n			\n			\n				\n				\n				\n				\n				\n				Encadrement\nNatalene Morel Je vous accompagne à détendre votre corps et votre esprit par de la marche et des ateliers en forêt\, pour vous reconnecter au vivant et ouvrir un nouveau regard sur ce qui nous entoure. https://www.arbresetchemins.com/natalene-morel \nJohanne Vaton accompagnement thérapeutique individuel et collectif\, praticienne en énergétique chinoise et Qi Gong – Tuina\, entre autres. https://www.johannevaton.com/ \n			\n				\n				\n				Hébergement\nNous serons accueillis sur le site de l’École pratique de la Nature et des Savoirs\, à “La Comtesse”. Un site naturel de 4 Ha en pleine montagne drômoise à 1300m d’altitude\, avec une vieille maison de famille comme camp de base.Tarif de l’hébergement : 110€\, à l’ordre de l’EPNS (dont 15€ d’adhésion à l’association EpNS)  \n			\n				\n				\n				Repas\nConcoctés avec amour\, en cohérence avec les pratiques proposées.Tarif des repas : 150 € \n			\n				\n				\n				Tarifs\nPour que nos stages restent accessibles au plus grand nombre\, le tarif est fonction de vos possibilités : de 220€ à 370 € (cela correspond à une participation de 27 à 46€ brut/accompagnatrice/jour). \n			\n				\n				\n				Informations pratiques\n\nStage de 8 à 12 personnes\nMail : arbresetchemins@gmail.com\nTéléphone : 0602633268\n\n			\n				\n				\n				Niveau de difficulté\nNous marcherons entre 4 et 6 heures par jour avec un rythme tranquille\, adapté à chacun. Nous serons en montagne donc il y a des montées pendant lesquelles nous apprendrons à respirer activement pour avancer en lien profond avec notre souffle. Et des descentes que nous ferons en pleine conscience pour nous aider à poser nos pieds en sécurité et douceur. Sur une échelle allant de 1 à 5 ( 1 étant très facile et 5 étant sportif) nous serons à 2. N’hésitez pas à me contacter si vous avez des doutes ou des appréhensions. \n			\n				En savoir plus
URL:https://www.ecolenaturesavoirs.com/event/arbres-et-chemins-itinerance-et-presence-en-drome-sauvage/
LOCATION:La Comtesse\, Chemin du Villard\, Val-Maravel France\, 26310\, France
CATEGORIES:Grand public,Partenaire
END:VEVENT
BEGIN:VEVENT
DTSTART;TZID=Europe/Paris:20250719T140000
DTEND;TZID=Europe/Paris:20250726T160000
DTSTAMP:20260424T085421
CREATED:20250221T163612Z
LAST-MODIFIED:20250403T075438Z
UID:8398-1752933600-1753545600@www.ecolenaturesavoirs.com
SUMMARY:Des voix de la terre aux voies de la guérison module 3\, juillet 2025
DESCRIPTION:Cultiver l’unité \nNature\, résilience…\nNous sommes des vivants\, parmi les vivants\, mais nous l’avons oublié. Il faudrait remettre la nature dans nos actes et nos pensées. Retrouver le vivant en nous et autour de nous\, mais comment faire\, voilà la question. \nLes crises\, qu’elles soient sanitaires ou climatiques\, sont autant l’illustration de cet oubli que le signe annonciateur des déséquilibres majeurs qui vont se multiplier. \nPendant ces 5 jours sur le site immersion nature de l’EpNS\, venez à votre rencontre\, vous mettre à l’écoute de ce qui « est »\, la nature en nous et autour de nous. \nUn chemin de résilience qui vous permettra de découvrir et pratiquer ces règles immuables qui fondent la vie\, ce que les Kogis ont appelé les « lois de Sé » ou lois des origines. \nPendant ces 5 jours d’immersion nature venez à votre rencontre\, vous mettre à l’écoute de ce qui « est »\, la nature en nous et autour de nous. Un chemin de résilience qui vous permettra de découvrir et pratiquer ces règles immuables qui fondent la vie\, ce que les indiens Kogis ont appelé les « lois de Sé »\, ou lois des origines… \n…et transition\nRepartir comme avant ? Tout miser sur la technologie\, parier sur la décroissance ? Nous le savons\, ce n’est pas en faisant plus ou mieux de la même chose que nous obtiendrons des résultats différents. Il faut imaginer autre chose\, un « autre chose »\, qui rééquilibre le féminin et le masculin\, qui retrouve des liens d’alliance avec cette nature qui nous porte et nous fait vivre. \nQue nous en disent les traditions Kogis et Aruaca ? Comment réintégrer ces principes de vie dans notre quotidien ? C’est un art à redécouvrir\, celui de l’éveil et de la résilience. La voie du HOZHO chez les indiens Navajo\, ZIGONESHI chez les Kogis. \nC’est le chemin de la vie et de la joie. \n			\n			\n				\n				\n				\n				\n				\n				Intentions\n\nVivre un temps « intensément nature » de reconnexion à l’essence-ciel.\nRevisiter son parcours de vie\, identifier les temps/ étapes de déconnexions / reconnexion.\nIdentifier\, conscientiser les principes qui fondent la vie\, dont la nature est l’expression.\nSe reconnecter à la liberté joyeuse de l’enfant intérieur.\nDévelopper ses capacités d’autonomie et de responsabilité en nature \n\nPrincipes pédagogiques\nAvec le tissage des principes de vie universels qui sous-tendent les cultures kogis et les pratiques du bouddhisme ZEN. \nDes Parkours qui associent apports théoriques\, expérience « nature »\, temps de co-construction\, travail personnel\, présence de grands témoins et mise en résonance de nos parcours singuliers\, avec les principes de vie universels qui sous-tendent la culture kogi. \nInformations pratiques\n\nDates : du samedi 19 au samedi 26 juillet 2025\nLieu : La Comtesse\, site d’immersion nature dans le Haut-Diois\nAnimation : Éric Julien\, Dat Phan et Natalene Morel\nParticipants : 15 personnes maximum\nTarif : 850€ (encadrement\, logistique\, repas\, supports pédagogiques)\nTélécharger la fiche technique\nTélécharger le bulletin d’adhésion\n\nInscription\n\n\nEn ligne : remplir le formulaire ci-dessous\nPar chèque à l’ordre de l’EpNS\nLes renseignements pratiques vous seront transmis par mail à réception de votre inscription.
URL:https://www.ecolenaturesavoirs.com/event/des-voix-de-la-terre-aux-voies-de-la-guerison-module-3-juillet-2025/
LOCATION:La Comtesse\, Chemin du Villard\, Val-Maravel France\, 26310\, France
CATEGORIES:epns,La voie (x) de la nature
END:VEVENT
BEGIN:VEVENT
DTSTART;VALUE=DATE:20250728
DTEND;VALUE=DATE:20250804
DTSTAMP:20260424T085421
CREATED:20250321T151209Z
LAST-MODIFIED:20250328T182824Z
UID:8519-1753660800-1754265599@www.ecolenaturesavoirs.com
SUMMARY:Cercle des passeurs été 2025
DESCRIPTION:Trouver sa boussole pour naviguer dans un monde incertain :Pister nos potentiels\n			\n			\n				\n				\n			\n				\n				\n				\n				\n				\n				\n				À travers des pratiques ancestrales de reconnexion en nature\, de contes et histoires\, rituels\, peintures de sable\, lecture de territoire\, etc.\, nous explorerons les voies de la reconnexion au Vivant inspirées par les peuples racines\, pour percevoir comment la Terre\, le territoire\, nous montrent des chemins d’harmonie.  \nPour pister notre place\, notre propre « médecine »\, notre contribution\, et retrouver notre place d’humains gardiens du Vivant.  \nPour redevenir la nature\, et réparer nos liens avec elle\, en soi\, autour de soi\, et cheminer en conscience sur la « Voie de la Beauté »\, comme la nomme les Navajos.\n			\n			\n				\n				\n				\n				\n				\n				Infos pratiques\n\nLieu : La Comtesse\, Haut Diois\, Drôme\nHébergement en tente (apporter son matériel)\nTarif : 895€ (coût pédagogique et hébergement en pension complète compris)\nFiche technique\nInformations et inscriptions : lecercledespasseurs@gmail.comou 07 56 80 70 11\n\nHébergement\nLa Comtesse est un lieu de nature et de beauté situé à 1300m\, dans le haut Diois. Il propose l’essentiel\, mais pas le superflu. L’hébergement se fait soit en tente (apporter son matériel personnel)\, soit à la belle étoile\, soit en pièce commune d’une bâtisse « d’époque ».L’hébergement est en pension complète. La nourriture sera végétarienne\, et sans alcool.
URL:https://www.ecolenaturesavoirs.com/event/cercle-des-passeurs-ete-2025/
LOCATION:La Comtesse\, Chemin du Villard\, Val-Maravel France\, 26310\, France
CATEGORIES:Grand public,Le Cercle des passeurs,Partenaire
END:VEVENT
END:VCALENDAR