BEGIN:VCALENDAR
VERSION:2.0
PRODID:-//École Pratique de la Nature et des Savoirs - ECPv6.2.6//NONSGML v1.0//EN
CALSCALE:GREGORIAN
METHOD:PUBLISH
X-ORIGINAL-URL:https://www.ecolenaturesavoirs.com
X-WR-CALDESC:évènements pour École Pratique de la Nature et des Savoirs
REFRESH-INTERVAL;VALUE=DURATION:PT1H
X-Robots-Tag:noindex
X-PUBLISHED-TTL:PT1H
BEGIN:VTIMEZONE
TZID:Europe/Paris
BEGIN:DAYLIGHT
TZOFFSETFROM:+0100
TZOFFSETTO:+0200
TZNAME:CEST
DTSTART:20230326T010000
END:DAYLIGHT
BEGIN:STANDARD
TZOFFSETFROM:+0200
TZOFFSETTO:+0100
TZNAME:CET
DTSTART:20231029T010000
END:STANDARD
END:VTIMEZONE
BEGIN:VEVENT
DTSTART;VALUE=DATE:20230825
DTEND;VALUE=DATE:20230902
DTSTAMP:20260425T181042
CREATED:20230517T090436Z
LAST-MODIFIED:20230517T093328Z
UID:7713-1692921600-1693612799@www.ecolenaturesavoirs.com
SUMMARY:Chemin de soi - chemin du vivant 2023
DESCRIPTION:Chemin de Soi existe depuis 20 ans\nCette année nous nous réunissons Eric Julien et Christine Marsan pour vous offrir un parcours exceptionnel d’une semaine dans le Haut-Diois au sein d’un écrin de nature invitant la reconnexion au vivant et dédié à l’immersion dans la nature.Une semaine de déconnexion des rythmes humains pour nous reconnecter à ceux du vivant. \nQu’allons-nous vivre ?\nDes découvertes de sites exceptionnels\, des expériences d’immersion dans la nature\, une connexion avec un site inspiré des Indiens Kogis\, des cérémonies dans le temple la Nuhé (temple Kogi)\, des partages\, des expériences et des apports autour de l’invisible. Et bien d’autres surprises encore… \n			\n			\n				\n				\n			\n				\n				\n				\n				\n				\n				\n				Pourquoi ?\nChemin de Soi\, Chemins du vivant vous invite\, par la reconnexion à la nature et au vivant\, à retrouver le chemin vers Soi\, cette part de divin lové en nous qui nous ouvre les portes de l’intuition et de la connexion au vivant. \nComment ? Grâce à diverses formules d’immersion permettant une écoute fine des vibrations de la nature\, laissant infuser en nous les passerelles de reconnexion\, les sensations\, la réceptivité\, essentielles pour enter en symbiose avec tous les règnes et nous éveiller à la conservation de toutes les espèces.\nModestement\, nous suivrons les enseignements des Indiens Kogis pour retrouver\, en les vivant\, les principes du vivant. \nOù serons-nous ?\nLa Comtesse est un lieu complètement dédié à l’immersion nature et au lien au vivant. Les installations sont rudimentaires. On vient à la Comtesse pour être en lien avec les éléments\, retrouver le vivant en soi\, contacter la vie qui nous entoure et qui partage ce territoire\, expérimenter de nouveaux points de vue. \n			\n			\n				\n				\n				\n				\n				\n				\n			\n			\n				\n				\n			\n				\n				\n				\n				\n				\n				\n				\n			\n			\n				\n				\n				\n				\n				\n				Modalités pratiques\n\nArrivée à Luc en Diois\, la suite sera décrite sur place.\nCo-voiturage à prévoir entre participants.\nPour valider votre inscription\, renvoyer bulletin d’inscription rempli + règlement.\nTarif : 750 € (comprenant le séminaire\, les repas et l’hébergement).\nLes personnes ayant déjà suivi le Chemin de Soi bénéficient d’un tarif dégressif de 660 €.\nRèglement en ligne possible\nPour toutes questions : contact.altercoop@gmail.com\nBulletin d’inscription\nPlaquette de présentation
URL:https://www.ecolenaturesavoirs.com/event/chemin-de-soi-chemin-du-vivant-2023/
LOCATION:La Comtesse\, Chemin du Villard\, Val-Maravel France\, 26310\, France
CATEGORIES:AlterCoop,Partenaire
END:VEVENT
BEGIN:VEVENT
DTSTART;TZID=Europe/Paris:20230908T140000
DTEND;TZID=Europe/Paris:20230912T160000
DTSTAMP:20260425T181042
CREATED:20230216T101822Z
LAST-MODIFIED:20230222T212527Z
UID:7433-1694181600-1694534400@www.ecolenaturesavoirs.com
SUMMARY:Des voix de la terre aux voies de la guérison module 1 septembre 2023
DESCRIPTION:Nature\, résilience…\nNous sommes des vivants\, parmi les vivants\, mais nous l’avons oublié. Il faudrait remettre la nature dans nos actes et nos pensées. Retrouver le vivant en nous et autour de nous\, mais comment faire\, voilà la question. La Crise de la COVID 19 est autant l’illustration de cet oubli que le signe annonciateur des déséquilibres majeurs qui vont se multiplier. \nPendant ces 4 jours d’immersion nature venez à votre rencontre\, vous mettre à l’écoute de ce qui « est »\, la nature en nous et autour de nous. Un chemin de résilience qui vous permettra de découvrir et pratiquer ces règles immuables qui fondent la vie\, ce que les indiens Kogis ont appelé les « lois de Sé »\, ou lois des origines… \n…et transition\nRepartir comme avant ? Tout miser sur la technologie\, parier sur la décroissance ? Nous le savons\, ce n’est pas en faisant plus ou mieux de la même chose que nous obtiendrons des résultats différents. Il faut imaginer autre chose\, un « autre chose »\, qui rééquilibre le féminin et le masculin\, qui retrouve des liens d’alliance avec cette nature qui nous porte et nous fait vivre. \nQue nous en disent les traditions Kogis et Aruaca ? Comment réintégrer ces principe sde vie dans notre quotidien ? C’est un art à redécouvrir\, celui de l’éveil et de la résilience. La voie du HOZHO chez les indiens Navajo\, ZIGONESHI chez les Kogis. \nC’est le chemin de la vie et de la joie. \n			\n			\n				\n				\n				\n				\n				\n				Intentions\n\nVivre un temps « intensément nature » de reconnexion à l’essence -ciel.\nRevisiter son parcours de vie\, identifier les temps/ étapes de déconnexions / reconnexion.\nIdentifier\, conscientiser les principes qui fondent la vie\, dont la nature est l’expression.\nSe reconnecter à la liberté joyeuse de l’enfant intérieur.\nDévelopper ses capacités d’autonomie et de responsabilité en nature \n\nPrincipes pédagogiques\nGrandir ensemble en humanité\, sans doute est-ce l’ultime intention des parcours que nous mettons en œuvre. Nous associons apports théorique\, expérience « nature »\, temps de co-construction\, travail personnel\, présence de grands témoins et mise en résonnance de nos parcours singuliers\, avec les principes de vie universel qui sous-tendent la culture Kogis. \nInformations pratiques\n\nDates : du vendredi 8 au mardi 12 septembre 2023\nLieu : La Comtesse\, site d’immersion nature dans le Haut-Diois\nAnimation : Éric Julien\nParticipants : 10 à 20 personnes\nTarif : 590€ (encadrement\, logistique et repas)\n\nTéléchargements\n\nFiche technique\nBulletin d’inscription\nBulletin d’adhésion
URL:https://www.ecolenaturesavoirs.com/event/des-voix-de-la-terre-aux-voies-de-la-guerison-module-1-septembre-2023/
LOCATION:La Comtesse\, Chemin du Villard\, Val-Maravel France\, 26310\, France
CATEGORIES:epns,Grand public,La voie (x) de la nature
END:VEVENT
BEGIN:VEVENT
DTSTART;VALUE=DATE:20230920
DTEND;VALUE=DATE:20230923
DTSTAMP:20260425T181042
CREATED:20230317T083100Z
LAST-MODIFIED:20230317T084150Z
UID:7610-1695168000-1695427199@www.ecolenaturesavoirs.com
SUMMARY:Transform'Acteur Module 1 septembre 2023
DESCRIPTION:Présentation\nNos sociétés modernes sont en profonde mutation. Plus que jamais nous avons besoin de développer les savoirs\, savoir-être et savoir-faire nécessaires pour piloter\, avec justesse\, les transitions et accompagner les transformations des équipes\, des organisations et des territoires. \nLe métier de Transform’Acteur consiste\, au-delà des outils et des méthodes\, à savoir développer une qualité de présence\, d’ancrage\, indispensable pour accueillir et transformer l’imprévisible propre à notre époque. La complexité de notre monde requiert de nouveaux réflexes\, une posture d’agilité et un leadership qui favorisent la co-création des réponses de demain. A l’occasion de ce parcours\, venez pratiquer les méthodes de la coopération\, explorer la posture et la juste communication\, élargir et approfondir vison et perception\, désigner un processus\, élaborer un système de valeurs\, et découvrir la puissance adaptative et créatrice du vivant. \nLe parcours Transform’Acteur est un cursus structuré autour de 4 modules qui vous permettront d’explorer les différentes composantes du métier de la facilitation et de l’accompagnement du changement et des transitions. Des séquences de supervision/didactique suivent chaque module pour approfondir les pratiques et affiner le processus d’intervision/supervision. \nÀ l’issue des 4 modules\, qui peuvent être suivis sur plusieurs années (2 maxi)\, le certificat de Transform’Acteur\, vous sera délivré. Pour son obtention\, il sera demandé d’avoir réalisé tous les modules et les supervisions.  \n  \n			\n			\n				\n				\n				\n				\n				\n				Programme du module 1\nAccompagner changements et mutations – La posture de Transform’Acteur – comprendre les rouages de la dynamique de groupe et sa complexité.  \n\n\nComprendre la complexité de la posture d’accompagnant du changement et des transitions. \n\n\nAppréhender les différentes postures : de la facilitation à la Facilit’Action. \n\n\nDistinguer les différents métiers de l’accompagnement et leurs compétences et savoir-être. \n\n\nComprendre les spécificités de la dynamique d’un groupe. \n\n\nAjuster sa posture à la maturité du groupe/équipe. \n\n\nDécouvrir la complexité\, les mécanismes de la systémique et de la résilience. \n\n\nAjuster sa posture et ses interventions aux principes du vivant. \n\n\nInscription & conventions : contact.altercoop@gmail.com
URL:https://www.ecolenaturesavoirs.com/event/transformacteur-module-1-septembre-2023/
LOCATION:À distance
CATEGORIES:Partenaire,Transform'Acteur
END:VEVENT
END:VCALENDAR