BEGIN:VCALENDAR
VERSION:2.0
PRODID:-//École Pratique de la Nature et des Savoirs - ECPv6.2.6//NONSGML v1.0//EN
CALSCALE:GREGORIAN
METHOD:PUBLISH
X-WR-CALNAME:École Pratique de la Nature et des Savoirs
X-ORIGINAL-URL:https://www.ecolenaturesavoirs.com
X-WR-CALDESC:évènements pour École Pratique de la Nature et des Savoirs
REFRESH-INTERVAL;VALUE=DURATION:PT1H
X-Robots-Tag:noindex
X-PUBLISHED-TTL:PT1H
BEGIN:VTIMEZONE
TZID:Europe/Paris
BEGIN:DAYLIGHT
TZOFFSETFROM:+0100
TZOFFSETTO:+0200
TZNAME:CEST
DTSTART:20230326T010000
END:DAYLIGHT
BEGIN:STANDARD
TZOFFSETFROM:+0200
TZOFFSETTO:+0100
TZNAME:CET
DTSTART:20231029T010000
END:STANDARD
END:VTIMEZONE
BEGIN:VEVENT
DTSTART;VALUE=DATE:20230720
DTEND;VALUE=DATE:20230727
DTSTAMP:20260425T211543
CREATED:20230413T162507Z
LAST-MODIFIED:20230413T162645Z
UID:7695-1689811200-1690415999@www.ecolenaturesavoirs.com
SUMMARY:Traverser la forêt - juillet 2023
DESCRIPTION:Présentation \nLa forêt est notre milieu d’origine que nous ne connaissons plus\, ou peu. Ce Cercle sera l’occasion de le rencontrer de multiples façons\, réelles et symboliques\, d’explorer la lisière entre le sauvage et l’humain\, de rencontrer son ombre\, sa protection\, sa force\, et les chemins possibles. \nÀ travers les sagesses maasaï\, les peintures de sable contemporaines issues de la culture dineh\, la perception kogi d’un territoire et de ses symboles\, et la connexion à cette montagne située à l’écart du monde à 1300 m\, nous traverserons la forêt\, celle qui l’habite comme celle qui nous habite\, pour restaurer nos liens au vivant et y trouver nos chemins à la lisière. \n			\n			\n				\n				\n				\n				\n				\n				Organisation \nChaque Cercle prend la forme d’un parcours d’expériences simples et accessibles à tous (chant\, danse\, cercles de paroles\, pratiques artistiques\, connexion à la nature\, gestes premiers…) et de partages autour de ces visions racines\, pour se reconnecter à soi\, au « nous »\, à la nature et au Vivant. Il se propose d’accompagner un processus vivant. Pour cette raison\, il ne présente pas de programme fixe et invite\, le temps de quelques jours\, à épouser le mouvement et le temps du vivant. \nLes places sont limitées. En cas de nombre insuffisant d’inscrits un mois avant\, nous nous réservons la possibilité d’annuler. Merci de penser à réserver au plus tôt. \nPour plus d’informations (envoyez-nous de préférence un mail) : lecercledespasseurs@gmail.com – 07 56 80 70 11 
URL:https://www.ecolenaturesavoirs.com/event/traverser-la-foret-juillet-2023/
LOCATION:La Comtesse\, Chemin du Villard\, Val-Maravel France\, 26310\, France
CATEGORIES:Le Cercle des passeurs,Partenaire
END:VEVENT
BEGIN:VEVENT
DTSTART;TZID=Europe/Paris:20230728T140000
DTEND;TZID=Europe/Paris:20230804T160000
DTSTAMP:20260425T211543
CREATED:20230216T104814Z
LAST-MODIFIED:20231214T142303Z
UID:7439-1690552800-1691164800@www.ecolenaturesavoirs.com
SUMMARY:Des voix de la terre aux voies de la guérison module 2 juillet 2023
DESCRIPTION:Approfondissement | Résonance\nMarche\, bivouac\, méditation\, nuits à la belle étoile\, vous avez expérimenté le module 1\, ou vous avez déjà une certaine pratique de la nature ? De la méditation ? Ce module est pour vous. Il vous permettra d’explorer plus avant ce travail de « reconnexion » au vivant en soi et autour de soi. Les Indiens Kogis ont une expression pour cela : Ilyos\, ou comment remettre les territoires intérieurs en harmonie avec les territoires extérieurs afin de retrouver l’unité et la paix joyeuse. \nPour cela\, nous explorerons les trois voies de la santé et de l’harmonie : \n\nLa santé du corps (nourriture)\,\nLa santé de l’esprit (pensées produites et reçues)\,\nLa santé spirituelle (relations à la nature).\n\n			\n			\n				\n				\n				\n				\n				\n				Intentions\n\nVivre un temps « intensément nature » de reconnexion à l’essence-ciel.\nRevisiter son parcours de vie\, identifier les temps/étapes de déconnexions / reconnexion.\nIdentifier\, conscientiser les principes qui fondent la vie\, dont la nature est l’expression.\nSe reconnecter à la liberté joyeuse de l’enfant intérieur.\nDévelopper ses capacités d’autonomie et de responsabilité en nature \n\nPrincipes pédagogiques\nGrandir ensemble en humanité\, sans doute est-ce l’ultime intention des parcours que nous mettons en œuvre. Nous associons apports théoriques\, expérience « nature »\, temps de co-construction\, travail personnel\, présence de grands témoins et mise en résonance de nos parcours singuliers\, avec les principes de vie universel qui sous-tendent la culture Kogis. \nEncadrées par un accompagnateur de montagne (DE)\, les marches « moyennes montagnes » proposées\, de 2 à 4 h\, ne sont en rien des performances techniques. Elles doivent permettre de mettre en cohérence le chemin\, le mouvement du corps et l’évolution de nos pensées. \nInformations pratiques\n\nDates : du vendredi 28 juillet au vendredi 4 août 2023\nLieu : La Comtesse\, site d’immersion nature dans le Haut-Diois\nAnimation : Éric Julien et Dat Phan\, maître ZEN\nParticipants : 10 à 20 personnes\nTarif : 650€ (encadrement\, logistique et repas)\n\nTéléchargements\n\nFiche technique\nBulletin d’inscription\nBulletin d’adhésion
URL:https://www.ecolenaturesavoirs.com/event/des-voix-de-la-terre-aux-voies-de-la-guerison-module-2-juillet-2023/
LOCATION:La Comtesse\, Chemin du Villard\, Val-Maravel France\, 26310\, France
CATEGORIES:epns,Grand public,La voie (x) de la nature
END:VEVENT
END:VCALENDAR