BEGIN:VCALENDAR
VERSION:2.0
PRODID:-//École Pratique de la Nature et des Savoirs - ECPv6.2.6//NONSGML v1.0//EN
CALSCALE:GREGORIAN
METHOD:PUBLISH
X-WR-CALNAME:École Pratique de la Nature et des Savoirs
X-ORIGINAL-URL:https://www.ecolenaturesavoirs.com
X-WR-CALDESC:évènements pour École Pratique de la Nature et des Savoirs
REFRESH-INTERVAL;VALUE=DURATION:PT1H
X-Robots-Tag:noindex
X-PUBLISHED-TTL:PT1H
BEGIN:VTIMEZONE
TZID:Europe/Paris
BEGIN:DAYLIGHT
TZOFFSETFROM:+0100
TZOFFSETTO:+0200
TZNAME:CEST
DTSTART:20230326T010000
END:DAYLIGHT
BEGIN:STANDARD
TZOFFSETFROM:+0200
TZOFFSETTO:+0100
TZNAME:CET
DTSTART:20231029T010000
END:STANDARD
END:VTIMEZONE
BEGIN:VEVENT
DTSTART;VALUE=DATE:20230517
DTEND;VALUE=DATE:20230522
DTSTAMP:20260426T003725
CREATED:20230222T215027Z
LAST-MODIFIED:20230222T215628Z
UID:7564-1684281600-1684713599@www.ecolenaturesavoirs.com
SUMMARY:La nature pour école mai 2023
DESCRIPTION:En ces temps d’incertitude\, « faire un pas de côté » sur notre quotidien\, est peut-être le moyen de retrouver de l’élan\, avec soi\, les autres et le vivant. Comment nos intentions pédagogiques peuvent-elles s’incarner dans l’action et dehors ? En quoi le « vivre dehors » est un enjeu fondamental pour l’esprit humain ? Une quête de sens ? Des sens ? Et comment le transmettre ? \nIl est avant tout question de plaisir dans cette proposition de partager quelques jours ensemble à La Comtesse\, avec un équipage qui connaît bien le lieu et se rassemble pour vous accompagner dans ce séjour hors du commun. \n\n\n\n\n\n\nFiche technique\nBulletin d’inscription\nBulletin d’adhésion à l’association\n\n\n\n\n			\n			\n				\n				\n				\n				\n				\n				\n\n\n\nDurant ce stage\, vous pourrez…\n\n\n\n\n\n(Re-) Découvrir les atouts d’une école-nature par une présentation du projet et de ses réalisations (les lieux et l’historique) ;\nRevisiter ensemble quelques fondamentaux de dynamique de groupe en extérieur et les vivre ;\nVous inspirer des pratiques de la classe dehors\, telles que nous les mettons en œuvre à Caminando ;\nVous initier à une démarche systémique\, inspirée du vivant et orientée vers l’action\, comme socle de réalisations communes\,\nParticiper à des temps d’échanges et/ou atelier de co- développement sur les projets de chacun ;\nRetrouver de l’enthousiasme à vivre la classe\, le groupe que vous accompagnez\, en identifiant de nouvelles ressources ;\nVivre simplement cette parenthèse\, en lien avec le vivant\, afin de ce ressourcer\, pour prendre du recul sur vos activités\, vos projets et reprendre du souffle\, en joie\, porteur de sens et de vie !\n\n\n\n\n\nInscription et renseignements complémentaires au 07 57 50 50 79
URL:https://www.ecolenaturesavoirs.com/event/la-nature-pour-ecole-mai-2023/
LOCATION:La Comtesse\, Chemin du Villard\, Val-Maravel France\, 26310\, France
CATEGORIES:epns,Grand public,Pour une éducation différente,Pratiques pédagogiques vivantes
ORGANIZER;CN="Muriel Fifils":MAILTO:ecole.caminando@gmail.com
END:VEVENT
BEGIN:VEVENT
DTSTART;VALUE=DATE:20230526
DTEND;VALUE=DATE:20230530
DTSTAMP:20260426T003725
CREATED:20230413T155414Z
LAST-MODIFIED:20230413T161735Z
UID:7678-1685059200-1685404799@www.ecolenaturesavoirs.com
SUMMARY:Tresser le fil de nos histoires - mai 2023
DESCRIPTION:Présentation \nEt si nous étions une histoire ?… Qu’est-ce qu’une histoire ? Comment s’écrit-elle ? Comment se raconte-t-elle ? Qu’est-ce qui\, dans nos histoires\, nous fait emprunter des sentiers de lisières pour explorer plus loin ? Sur quelles ressources\, quels ressorts\, pouvons-nous compter (conter) pour avancer sur ces chemins ? Et depuis ces explorations\, quelle histoire nos pas auront-ils envie d’écrire sur la Terre pour mieux marcher nos mots ? \nAvec le soutien de la nature\, de l’art du conte et les peintures de sable dineh (navajo)\, nous tresserons ensemble quelques fils de ces histoires qui nous tissent tout autant que nous les tissons. \n			\n			\n				\n				\n				\n				\n				\n				Organisation \nChaque Cercle prend la forme d’un parcours d’expériences simples et accessibles à tous (chant\, danse\, cercles de paroles\, pratiques artistiques\, connexion à la nature\, gestes premiers…) et de partages autour de ces visions racines\, pour se reconnecter à soi\, au « nous »\, à la nature et au Vivant. Il se propose d’accompagner un processus vivant. Pour cette raison\, il ne présente pas de programme fixe et invite\, le temps de quelques jours\, à épouser le mouvement et le temps du vivant. \nLes places sont limitées. En cas de nombre insuffisant d’inscrits un mois avant\, nous nous réservons la possibilité d’annuler. Merci de penser à réserver au plus tôt. \nPour plus d’informations (envoyez-nous de préférence un mail) : lecercledespasseurs@gmail.com – 07 56 80 70 11 
URL:https://www.ecolenaturesavoirs.com/event/tresser-le-fil-de-nos-histoires-mai-2023/
LOCATION:La Comtesse\, Chemin du Villard\, Val-Maravel France\, 26310\, France
CATEGORIES:Le Cercle des passeurs,Partenaire
END:VEVENT
END:VCALENDAR