BEGIN:VCALENDAR
VERSION:2.0
PRODID:-//École Pratique de la Nature et des Savoirs - ECPv6.2.6//NONSGML v1.0//EN
CALSCALE:GREGORIAN
METHOD:PUBLISH
X-ORIGINAL-URL:https://www.ecolenaturesavoirs.com
X-WR-CALDESC:évènements pour École Pratique de la Nature et des Savoirs
REFRESH-INTERVAL;VALUE=DURATION:PT1H
X-Robots-Tag:noindex
X-PUBLISHED-TTL:PT1H
BEGIN:VTIMEZONE
TZID:Europe/Paris
BEGIN:DAYLIGHT
TZOFFSETFROM:+0100
TZOFFSETTO:+0200
TZNAME:CEST
DTSTART:20230326T010000
END:DAYLIGHT
BEGIN:STANDARD
TZOFFSETFROM:+0200
TZOFFSETTO:+0100
TZNAME:CET
DTSTART:20231029T010000
END:STANDARD
END:VTIMEZONE
BEGIN:VEVENT
DTSTART;TZID=Europe/Paris:20230328T180000
DTEND;TZID=Europe/Paris:20230329T180000
DTSTAMP:20260419T143504
CREATED:20230317T091452Z
LAST-MODIFIED:20230317T091453Z
UID:7630-1680026400-1680112800@www.ecolenaturesavoirs.com
SUMMARY:Les routines du dehors
DESCRIPTION:Le Réseau Drômois d’Éducation à l’Environnement\, l’École Pratique de la nature et des Savoirs et l’association Biovallée vous invitent à participer à des formations immersives pour renforcer le lien au monde vivant. \nCes stages sont à destination des acteurs éducatifs (enseignant\, animateur nature\, animateur de centre de loisirs\, éducateur) ayant déjà accompagné un groupe d’enfants dans la nature. \nContenu pédagogique : \nDes temps de pratique personnelle et en particulier des immersions dans la nature\, des partages et des analyses de pratiques\, des repères théoriques\, des approches réflexives \nUn programme détaillé et le nom des formateurs et formatrices ainsi qu’un questionnaire d’état des lieux de vos pratiques d’accompagnement de groupes d’enfants dans la nature vous seront envoyés avant la formation\, accompagné de propositions de pratiques à réaliser individuellement avant le stage. \n  \n\n\n\n			\n			\n				\n				\n				\n				\n				\n				\n\n\nObjectifs\n\n\n\n\n\n\nPartager et diffuser des pratiques d’accompagnement de groupes d’enfants dans la nature qui renforcent le lien au monde vivant.\nCroiser les regards et les approches (expérientielle\, naturaliste\, sensorielle etc.)\, chaque session étant animée par des intervenants ayant des parcours différents.\n\nParticipation aux frais d’hébergement et de repas : 70 euros \nNombre de participants : 15 personnes \nLe coût pédagogique des formations est pris en charge. La participation aux frais comprend les frais d’hébergements et les repas du mardi soir\, mercredi matin et mercredi midi.  \nInformations et inscriptions : ngaillard@biovallee.net
URL:https://www.ecolenaturesavoirs.com/event/les-routines-du-dehors/
LOCATION:Monastère de Ste Croix\, 54 place de l'Eglise-Temple\, Sainte-Croix\, 26150\, France
CATEGORIES:Partenaire,Pro
END:VEVENT
END:VCALENDAR