BEGIN:VCALENDAR
VERSION:2.0
PRODID:-//École Pratique de la Nature et des Savoirs - ECPv6.2.6//NONSGML v1.0//EN
CALSCALE:GREGORIAN
METHOD:PUBLISH
X-WR-CALNAME:École Pratique de la Nature et des Savoirs
X-ORIGINAL-URL:https://www.ecolenaturesavoirs.com
X-WR-CALDESC:évènements pour École Pratique de la Nature et des Savoirs
REFRESH-INTERVAL;VALUE=DURATION:PT1H
X-Robots-Tag:noindex
X-PUBLISHED-TTL:PT1H
BEGIN:VTIMEZONE
TZID:Europe/Paris
BEGIN:DAYLIGHT
TZOFFSETFROM:+0100
TZOFFSETTO:+0200
TZNAME:CEST
DTSTART:20240331T010000
END:DAYLIGHT
BEGIN:STANDARD
TZOFFSETFROM:+0200
TZOFFSETTO:+0100
TZNAME:CET
DTSTART:20241027T010000
END:STANDARD
END:VTIMEZONE
BEGIN:VEVENT
DTSTART;VALUE=DATE:20240702
DTEND;VALUE=DATE:20240705
DTSTAMP:20260423T013810
CREATED:20230317T083723Z
LAST-MODIFIED:20231115T180859Z
UID:7622-1719878400-1720137599@www.ecolenaturesavoirs.com
SUMMARY:Transform'Acteur Module 3 juillet 2024
DESCRIPTION:Présentation\nNos sociétés modernes sont en profonde mutation. Plus que jamais nous avons besoin de développer les savoirs\, savoir-être et savoir-faire nécessaires pour piloter\, avec justesse\, les transitions et accompagner les transformations des équipes\, des organisations et des territoires. \nLe métier de Transform’Acteur consiste\, au-delà des outils et des méthodes\, à savoir développer une qualité de présence\, d’ancrage\, indispensable pour accueillir et transformer l’imprévisible propre à notre époque. La complexité de notre monde requiert de nouveaux réflexes\, une posture d’agilité et un leadership qui favorisent la co-création des réponses de demain. A l’occasion de ce parcours\, venez pratiquer les méthodes de la coopération\, explorer la posture et la juste communication\, élargir et approfondir vison et perception\, désigner un processus\, élaborer un système de valeurs\, et découvrir la puissance adaptative et créatrice du vivant. \nLe parcours Transform’Acteur est un cursus structuré autour de 4 modules qui vous permettront d’explorer les différentes composantes du métier de la facilitation et de l’accompagnement du changement et des transitions. Des séquences de supervision/didactique suivent chaque module pour approfondir les pratiques et affiner le processus d’intervision/supervision. \nÀ l’issue des 4 modules\, qui peuvent être suivis sur plusieurs années (2 maxi)\, le certificat de Transform’Acteur\, vous sera délivré. Pour son obtention\, il sera demandé d’avoir réalisé tous les modules et les supervisions.  \n  \n			\n			\n				\n				\n				\n				\n				\n				Programme du module 3\nS’adapter aux systèmes et aux organisations – comment pratiquer et adapter les outils de la coopération et de l’IC selon la maturité des organisations ? \n\n\nDécoder les cartes des organisations (culture\, maturité) dans lesquelles nous intervenons\,  \n\n\nSaisir la complexité des systèmes\, analyse systémique des organisations\, \n\n\nSavoir composer avec des territoires composites\, \n\n\nDécoder les architectures invisibles\, Œuvrer dans les interstices pour révéler la résilience individuelle et collective. \n\n\nConsolider le groupe par les valeurs. \n\n\nIdentifier des situations délicates et comment les appréhender. \n\n\nLa Spirale Dynamique comme méthode de décryptage individuel et collectif de la maturité organisationnelle et de l’aptitude à changer. \n\n\nInscription & conventions : contact.altercoop@gmail.com
URL:https://www.ecolenaturesavoirs.com/event/transformacteur-module-3-juillet-2024/
LOCATION:Maison Glaz\, Route des Saisies\, Gâvres\, 56680\, France
CATEGORIES:Partenaire,Transform'Acteur
END:VEVENT
BEGIN:VEVENT
DTSTART;VALUE=DATE:20240718
DTEND;VALUE=DATE:20240725
DTSTAMP:20260423T013810
CREATED:20240320T154909Z
LAST-MODIFIED:20240321T085931Z
UID:8232-1721260800-1721865599@www.ecolenaturesavoirs.com
SUMMARY:À l'écoute du chant de la Terre
DESCRIPTION:Présentation\nLa Terre nous parle\, disent les peuples racines. Et si nous nous mettions à son écoute ? \nInspirés par les philosophies racines\, nous ouvrirons grandes nos oreilles et nos sens pour entendre comment la Terre\, le territoire\, nous donne le « La » et nous invite à se souvenir que nous sommes la nature. \nÀ travers la connexion à cette montagne située à l’écart du monde humain\, les peintures de sable contemporaines issues de la culture diné (Navajo)\, la marche et la perception kogi d’un territoire et de ses symboles\, l’exploration de notre mémoire ancestrale à travers les histoires\, nous écouterons comment le chant de la Terre résonne en nous-mêmes pour devenir créateurs et passeurs de lien et trouver l’harmonie. \n			\n				\n				\n				\n			\n				\n				\n				Organisation\nChaque Cercle prend la forme d’un parcours d’expériences simples et accessibles à tous (chant\, danse\, cercles de paroles\, pratiques artistiques\, connexion à la nature\, gestes premiers…) et de partages autour de ces visions racines\, pour se reconnecter à soi\, au « nous »\, à la nature et au Vivant. Il se propose d’accompagner un processus vivant. \nPour cette raison\, il ne présente pas de programme fixe et invite\, le temps de quelques jours\, à épouser le mouvement et le temps du vivant. \n			\n				\n				\n				Animé par\n\nFrederika Van Ingen (sagesses d’ailleurs)\,\nLorenza Garcia (tradition navajo)\,\nÉric Julien (tradition kogi)\,\nOthello Ravez (didgeridoo\, musicothérapeute)\net Innocent Yapi (artiste conteur).\n\n			\n			\n				\n				\n				\n				\n				\n				Informations pratiques\nLieu. La Comtesse\, un lieu de nature et de beauté dans le haut-Diois. Possibilité de covoiturage. \nTarifs. Coût pédagogique et hébergement pension complète : 895 € pour une inscription avant le 10 juin\, 920 € après le 10 juin.Une adhésion annuelle à l’Association Le Cercle des Passeurs est également demandée (10 €)\, ainsi qu’à l’École pratique de la Nature et des Savoirs (15 €).  \nHébergement. La nourriture sera végétarienne\, et sans alcool (sans gluten ni lactose sur demande). Le lieu qui nous accueille nous amène à vivre la connexion à la nature et une déconnexion au confort habituel. L’essentiel y est\, mais pas le superflu. Il propose le confort d’un refuge. L’hébergement se fait en tente (non fournie) ou dans deux grandes chambres communes\, sur des matelas au sol (quelques lits disponibles en cas de besoin). L’eau des douches est à température ambiante. \nLes places sont limitées. En cas de nombre insuffisant d’inscrits un mois avant\, nous nous réservons la possibilité d’annuler. Merci de penser à réserver au plus tôt. \nPlus d’informations \nPour toute question (par mail de préférence) : lecercledespasseurs@gmail.com – 07 56 80 70 11  \n			\n				Inscription
URL:https://www.ecolenaturesavoirs.com/event/a-lecoute-du-chant-de-la-terre/
LOCATION:La Comtesse\, Chemin du Villard\, Val-Maravel France\, 26310\, France
CATEGORIES:Le Cercle des passeurs,Partenaire
END:VEVENT
END:VCALENDAR