BEGIN:VCALENDAR
VERSION:2.0
PRODID:-//École Pratique de la Nature et des Savoirs - ECPv6.2.6//NONSGML v1.0//EN
CALSCALE:GREGORIAN
METHOD:PUBLISH
X-WR-CALNAME:École Pratique de la Nature et des Savoirs
X-ORIGINAL-URL:https://www.ecolenaturesavoirs.com
X-WR-CALDESC:évènements pour École Pratique de la Nature et des Savoirs
REFRESH-INTERVAL;VALUE=DURATION:PT1H
X-Robots-Tag:noindex
X-PUBLISHED-TTL:PT1H
BEGIN:VTIMEZONE
TZID:Europe/Paris
BEGIN:DAYLIGHT
TZOFFSETFROM:+0100
TZOFFSETTO:+0200
TZNAME:CEST
DTSTART:20240331T010000
END:DAYLIGHT
BEGIN:STANDARD
TZOFFSETFROM:+0200
TZOFFSETTO:+0100
TZNAME:CET
DTSTART:20241027T010000
END:STANDARD
END:VTIMEZONE
BEGIN:VEVENT
DTSTART;VALUE=DATE:20240516
DTEND;VALUE=DATE:20240521
DTSTAMP:20260423T044445
CREATED:20240320T154721Z
LAST-MODIFIED:20240320T164138Z
UID:8229-1715817600-1716249599@www.ecolenaturesavoirs.com
SUMMARY:Tressons le fil de nos histoires
DESCRIPTION:Présentation\nEt si nous étions d’abord\, chacun\, une histoire ? Dans l’inspiration des philosophies des peuples racines\, quelle histoire avons-nous envie d’écrire sur la Terre pour mieux « marcher nos mots » ? \nAvec le soutien de la nature au cœur de ces belles montagnes\, des gestes premiers\, de l’art du conte\, des peintures de sable\, nous tresserons ensemble les fils de nos histoires\, dans l’intention d’embellir\, de restaurer nos liens à la trame du monde et de la vie. \n			\n				\n				\n				\n			\n				\n				\n				Organisation\nChaque Cercle prend la forme d’un parcours d’expériences simples et accessibles à tous (chant\, danse\, cercles de paroles\, pratiques artistiques\, connexion à la nature\, gestes premiers…) et de partages autour de ces visions racines\, pour se reconnecter à soi\, au « nous »\, à la nature et au Vivant. Il se propose d’accompagner un processus vivant. \nPour cette raison\, il ne présente pas de programme fixe et invite\, le temps de quelques jours\, à épouser le mouvement et le temps du vivant. \n			\n				\n				\n				Animé par\n\nFrederika Van Ingen (sagesses d’ailleurs)\,\nLorenza Garcia (tradition navajo)\,\nÉric Julien (tradition kogi)\,\nKim Pasche (gestes premiers\, tradition Cree)\net Innocent Yapi\, ArtisteConteur.\n\n			\n			\n				\n				\n				\n				\n				\n				Informations pratiques\nLieu. La Comtesse\, un lieu de nature et de beauté dans le haut-Diois. Possibilité de covoiturage. \nTarifs. Coût pédagogique et hébergement pension complète) : 690 € pour une inscription avant le 30 avril\, 710 € après le 30 avril.Une adhésion annuelle à l’Association Le Cercle des Passeurs est également demandée (10 €)\, ainsi qu’à l’École pratique de la Nature et des Savoirs (15 €).  \nHébergement. La nourriture sera vgétarienne\, et sans alcool (sans gluten ni lactose sur demande). Le lieu qui nous accueille nous amène à vivre la connexion à la nature et une déconnexion au confort habituel. L’essentiel y est\, mais pas le superflu. Il propose le confort d’un refuge. L’hébergement se fait en tente (non fournie) ou dans deux grandes chambres communes\, sur des matelas au sol (quelques lits disponibles en cas de besoin). L’eau des douches est à température ambiante. \nLes places sont limitées. En cas de nombre insuffisant d’inscrits un mois avant\, nous nous réservons la possibilité d’annuler. Merci de penser à réserver au plus tôt. \nPlus d’informations \nPour toute question (par mail de préférence) : lecercledespasseurs@gmail.com – 07 56 80 70 11  \n			\n				Inscription
URL:https://www.ecolenaturesavoirs.com/event/tressons-le-fil-de-nos-histoires/
LOCATION:La Comtesse\, Chemin du Villard\, Val-Maravel France\, 26310\, France
CATEGORIES:Le Cercle des passeurs,Partenaire
END:VEVENT
BEGIN:VEVENT
DTSTART;TZID=Europe/Paris:20240522T100000
DTEND;TZID=Europe/Paris:20240522T160000
DTSTAMP:20260423T044445
CREATED:20240216T100648Z
LAST-MODIFIED:20240228T172649Z
UID:8088-1716372000-1716393600@www.ecolenaturesavoirs.com
SUMMARY:Sur les chemins du dehors mercredi 22 mai à l'école de Ste-Croix
DESCRIPTION:Sur les Chemins du Dehors propose une Connexion nature mercredi 22 mai\, de 10 à 16h à l’école de Sainte-Croix. \n« Partages de pratiques pédagogiques dehors »  \nObjectifs\n\nPARTAGER des postures et des idées pour encadrer les enfants dehors\, dans la perspective de se (re)connecter à la nature ;\nDÉCOUVRIR les atouts d’une Aire Terrestre Éducative (ATE) avec la participation de Christian Dubois\, enseignant à l’école de Sainte-Croix.\n\n			\n				\n				\n				\n			\n			\n				\n				\n				\n				\n				\n				\n			\n				\n				\n				Encadré par\n\nBéatrice VENARD\, ex-conseillère pédagogique et membre du collectif «Tous Dehors France»\nAnna ROCHÉ\, animatrice nature et coordinatrice des projets nature aux Amanins.\n\n			\n				\n				\n				Participation\n\nFrais de la journée (déjeuner inclus) : 15 €\nRendez-vous à 10h à l’école de Sainte-Croix\, 658 route de la vallée de Quint\, Sainte-Croix (26150)\n\n			\n				Inscription\n			\n				\n				\n				\n\nNous contacter\n\nPar téléphone : 07 57 50 50 79\nPar email : contact.cheminsdudehors@gmail.com\n\nCe projet est réalisé dans le cadre de l’Appel à communs « Grandir en lien avec la nature ».
URL:https://www.ecolenaturesavoirs.com/event/sur-les-chemins-du-dehors-mercredi-22-mai-a-lecole-de-ste-croix/
LOCATION:École de Ste-Croix\, 658 route de la vallée de Quint\, Sainte-Croix\, 26150\, France
CATEGORIES:Partenaire,Pratiques pédagogiques vivantes,Sur les chemins du dehors
END:VEVENT
BEGIN:VEVENT
DTSTART;VALUE=DATE:20240527
DTEND;VALUE=DATE:20240530
DTSTAMP:20260423T044445
CREATED:20230317T083514Z
LAST-MODIFIED:20231115T180653Z
UID:7619-1716768000-1717027199@www.ecolenaturesavoirs.com
SUMMARY:Transform'Acteur Module 2 mai 2024
DESCRIPTION:Présentation\nNos sociétés modernes sont en profonde mutation. Plus que jamais nous avons besoin de développer les savoirs\, savoir-être et savoir-faire nécessaires pour piloter\, avec justesse\, les transitions et accompagner les transformations des équipes\, des organisations et des territoires. \nLe métier de Transform’Acteur consiste\, au-delà des outils et des méthodes\, à savoir développer une qualité de présence\, d’ancrage\, indispensable pour accueillir et transformer l’imprévisible propre à notre époque. La complexité de notre monde requiert de nouveaux réflexes\, une posture d’agilité et un leadership qui favorisent la co-création des réponses de demain. A l’occasion de ce parcours\, venez pratiquer les méthodes de la coopération\, explorer la posture et la juste communication\, élargir et approfondir vison et perception\, désigner un processus\, élaborer un système de valeurs\, et découvrir la puissance adaptative et créatrice du vivant. \nLe parcours Transform’Acteur est un cursus structuré autour de 4 modules qui vous permettront d’explorer les différentes composantes du métier de la facilitation et de l’accompagnement du changement et des transitions. Des séquences de supervision/didactique suivent chaque module pour approfondir les pratiques et affiner le processus d’intervision/supervision. \nÀ l’issue des 4 modules\, qui peuvent être suivis sur plusieurs années (2 maxi)\, le certificat de Transform’Acteur\, vous sera délivré. Pour son obtention\, il sera demandé d’avoir réalisé tous les modules et les supervisions.  \n  \n			\n			\n				\n				\n				\n				\n				\n				Programme du module 2\n\nVous êtes intervenant\, accompagnateur des transformations et/ou des transitions.\nVous avez déjà quelques outils\, pratiqué plusieurs méthodes et vous avez envie d’approfondir votre posture?\nCe module aborde notre rapport aux émotions\, aux relations et comment ces dernières ont un impact déterminant sur la posture avec un groupe\, en co-animation\, pluri-animation…\n\nMaturité émotionnelle et présence – comment piloter ses émotions et gérer les situations complexes de fragilité ? \n\n\nIdentifier son rapport aux émotions. \n\n\nPiloter ses émotions en situation délicate. \n\n\nSortir des répétitions relationnelles et développer une maturité relationnelle et émotionnelle. \n\n\nAppréhender diverses méthodes pour retrouver la sérénité. \n\n\nDévelopper la justesse et la présence. \n\n\nUtiliser les 9 intelligences de la posture de Facilit’Acteur. \n\n\nInscription & conventions : contact.altercoop@gmail.com
URL:https://www.ecolenaturesavoirs.com/event/transformacteur-module-2-mai-2024/
LOCATION:Maison Forte\, Monbalen\, 47340
CATEGORIES:Partenaire,Transform'Acteur
END:VEVENT
END:VCALENDAR