BEGIN:VCALENDAR
VERSION:2.0
PRODID:-//École Pratique de la Nature et des Savoirs - ECPv6.2.6//NONSGML v1.0//EN
CALSCALE:GREGORIAN
METHOD:PUBLISH
X-WR-CALNAME:École Pratique de la Nature et des Savoirs
X-ORIGINAL-URL:https://www.ecolenaturesavoirs.com
X-WR-CALDESC:évènements pour École Pratique de la Nature et des Savoirs
REFRESH-INTERVAL;VALUE=DURATION:PT1H
X-Robots-Tag:noindex
X-PUBLISHED-TTL:PT1H
BEGIN:VTIMEZONE
TZID:Europe/Paris
BEGIN:DAYLIGHT
TZOFFSETFROM:+0100
TZOFFSETTO:+0200
TZNAME:CEST
DTSTART:20240331T010000
END:DAYLIGHT
BEGIN:STANDARD
TZOFFSETFROM:+0200
TZOFFSETTO:+0100
TZNAME:CET
DTSTART:20241027T010000
END:STANDARD
END:VTIMEZONE
BEGIN:VEVENT
DTSTART;VALUE=DATE:20240615
DTEND;VALUE=DATE:20240621
DTSTAMP:20260425T055450
CREATED:20231214T140637Z
LAST-MODIFIED:20240524T171451Z
UID:7949-1718409600-1718927999@www.ecolenaturesavoirs.com
SUMMARY:Des voix de la terre aux voies de la guérison module 1\, juin 2024
DESCRIPTION:Nature\, résilience…\nNous sommes des vivants\, parmi les vivants\, mais nous l’avons oublié. Il faudrait remettre la nature dans nos actes et nos pensées. Retrouver le vivant en nous et autour de nous\, mais comment faire\, voilà la question. La Crise de la COVID 19 est autant l’illustration de cet oubli que le signe annonciateur des déséquilibres majeurs qui vont se multiplier. \nPendant ces 4 jours d’immersion nature venez à votre rencontre\, vous mettre à l’écoute de ce qui « est »\, la nature en nous et autour de nous. Un chemin de résilience qui vous permettra de découvrir et pratiquer ces règles immuables qui fondent la vie\, ce que les indiens Kogis ont appelé les « lois de Sé »\, ou lois des origines… \n…et transition\n\n\n\nRepartir comme avant ? Tout miser sur la technologie\, parier sur la décroissance ? Nous le savons\, ce n’est pas en faisant plus ou mieux de la même chose que nous obtiendrons des résultats différents. Il faut imaginer autre chose\, un « autre chose »\, qui rééquilibre le féminin et le masculin\, qui retrouve des liens d’alliance avec cette nature qui nous porte et nous fait vivre. \nQue nous en disent les traditions Kogis et Aruaca ? Comment réintégrer ces principe sde vie dans notre quotidien ? C’est un art à redécouvrir\, celui de l’éveil et de la résilience. La voie du HOZHO chez les indiens Navajo\, ZIGONESHI chez les Kogis. \nC’est le chemin de la vie et de la joie. \n\n\n\n			\n			\n				\n				\n				\n				\n				\n				Intentions\n\nVivre un temps « intensément nature » de reconnexion à l’essence-ciel.\nRevisiter son parcours de vie\, identifier les temps/ étapes de déconnexions / reconnexion.\nIdentifier\, conscientiser les principes qui fondent la vie\, dont la nature est l’expression.\nSe reconnecter à la liberté joyeuse de l’enfant intérieur.\nDévelopper ses capacités d’autonomie et de responsabilité en nature \n\nPrincipes pédagogiques\nGrandir ensemble en humanité\, sans doute est-ce l’ultime intention des parcours que nous mettons en œuvre. Nous associons apports théoriques\, expérience « nature »\, temps de co-construction\, travail personnel\, présence de grands témoins et mise en résonance de nos parcours singuliers\, avec les principes de vie universel qui sous-tendent la culture Kogi. \nInformations pratiques\n\nDates : du samedi 15 au mercredi 20 juin\nLieu : La Comtesse\, site d’immersion nature dans le Haut-Diois\nAnimation : Éric Julien et Natalène MOREL\nParticipants : 20 personnes\n\nInscription\n\nBulletin d’inscription\nFiche technique
URL:https://www.ecolenaturesavoirs.com/event/des-voix-de-la-terre-aux-voies-de-la-guerison-module-1-juin-2024/
LOCATION:La Comtesse\, Chemin du Villard\, Val-Maravel France\, 26310\, France
CATEGORIES:epns,Grand public,La voie (x) de la nature
END:VEVENT
BEGIN:VEVENT
DTSTART;VALUE=DATE:20240620
DTEND;VALUE=DATE:20240625
DTSTAMP:20260425T055450
CREATED:20240227T172813Z
LAST-MODIFIED:20240227T182426Z
UID:8165-1718841600-1719273599@www.ecolenaturesavoirs.com
SUMMARY:Solstice d'été - plantes et feux de la Saint-Jean
DESCRIPTION:Venez (re-)découvrir ces plantes qui nous entourent et qui ont tant à nous offrir ! Ce séjour en pleine nature\, en l’honneur de la Saint-Jean d’été\, vous permettra de développer plus d’autonomie et de compréhension du vivant par le règne végétal. \nNous nous rassemblerons autour des différents feux\, ceux de cuissons économes\, ceux pour honorer cette période d’énergie maximale\, et bien entendu\, l’astre solaire à son apogée ! \nProgramme\n\nReconnaissance et récolte des plantes sauvages\nPréparations culinaires et médicinales\, tout particulièrement les plantes de la St Jean d’été par la fabrication d’élixirs.\nDialogue sensible avec le monde végétal.\nCuissons au feu de bois autant que possible\, bien qu’il ne s’agisse pas d’un stage de survie.\nMarche sur sentiers\, bord de rivière\, forêt\, prairies.\nVie au rythme du soleil (Qi gong dans la nature – levers / couchers de soleil)\nPratiques énergétiques auprès des sources et des rivières du territoire qui nourrissent le monde végétal.\n\nDe nombreux ouvrages de référence seront mis à disposition : consignes de récolte\, sécurité\, législations\, ainsi que des recettes. \nAccompagnement\nAgnès Lombard\nJe quitte mon métier de la restauration de peintures murales pour me lancer entièrement dans une formation d’herboristerie à Montréal puis de production végétale en agriculture biologique. En 2011\, je crée Semeurs d’Escampette\, pour transmettre ma vision de l’agroécologie et deviens agricultrice durant 5 ans en production de Plantes médicinales.\nLa permaculture et l’agroécologie\, l’herboristerie\, l’alimentation éthique et santé\, les cuissons au feu de bois\, sont les incontournables de mon univers. \nPascale Turbet Delof\nFormée à la FRAPNA\, j’ai animé de nombreuses journées à la découverte de la flore et de la faune sauvage. Je parcours aujourd’hui la nature comme un ressourcement et un émerveillement permanent. La géobiologie que je pratique depuis 15 ans\, m’a apporté la perception sensible et ultra-sensible des lieux naturels. Actuellement\, un enseignement des pratiques ancestrales amérindiennes par une chamane amazonienne s’intègre dans ma vie\, reliant les éléments-esprits de la nature aux pratiques rituelles sacrées. \n			\n			\n				\n				\n				\n				\n				\n				Informations pratiques\n\nTarif : 480€\, plus 15€ d’adhésion à l’association EPNS\nHébergement en pleine nature (sous tente\, hamac\, ou dortoir)\nRepas confectionnés à partir de cueillettes sauvages\, cuits au feu de bois\nRepas partagé le premier soir\nPlaces limitées : 15 personnes\nProgramme complet\nBulletin d’inscription\nAdhésion EPNS\n\n			\n				\n				\n				Renseignements\n\nPar mail : pascale.turbetdelof@gmail.com ousemeursdescampette@gmail.com\nPar téléphone : 06 35 35 12 78
URL:https://www.ecolenaturesavoirs.com/event/solstice-dete-plantes-et-feux-de-la-saint-jean/
LOCATION:La Comtesse\, Chemin du Villard\, Val-Maravel France\, 26310\, France
CATEGORIES:Partenaire
END:VEVENT
END:VCALENDAR