BEGIN:VCALENDAR
VERSION:2.0
PRODID:-//École Pratique de la Nature et des Savoirs - ECPv6.2.6//NONSGML v1.0//EN
CALSCALE:GREGORIAN
METHOD:PUBLISH
X-WR-CALNAME:École Pratique de la Nature et des Savoirs
X-ORIGINAL-URL:https://www.ecolenaturesavoirs.com
X-WR-CALDESC:évènements pour École Pratique de la Nature et des Savoirs
REFRESH-INTERVAL;VALUE=DURATION:PT1H
X-Robots-Tag:noindex
X-PUBLISHED-TTL:PT1H
BEGIN:VTIMEZONE
TZID:Europe/Paris
BEGIN:DAYLIGHT
TZOFFSETFROM:+0100
TZOFFSETTO:+0200
TZNAME:CEST
DTSTART:20230326T010000
END:DAYLIGHT
BEGIN:STANDARD
TZOFFSETFROM:+0200
TZOFFSETTO:+0100
TZNAME:CET
DTSTART:20231029T010000
END:STANDARD
END:VTIMEZONE
BEGIN:VEVENT
DTSTART;TZID=Europe/Paris:20231127T150000
DTEND;TZID=Europe/Paris:20231201T160000
DTSTAMP:20260425T150428
CREATED:20230928T061608Z
LAST-MODIFIED:20230928T065500Z
UID:7813-1701097200-1701446400@www.ecolenaturesavoirs.com
SUMMARY:Piloter sa transition - novembre 2023
DESCRIPTION:« Tout est écrit dans la nature\, et notamment la façon dont il convient de maintenir l’équilibre\, de canaliser l’énergie\, ente la vie et la mort\, pour éviter le chaos. C’est dans la nature que les lois qui régissent notre société prennent leurs racines. »Mamu Miguel DINGULA \n\n			\n				\n				\n				Votre situation professionnelle ou personnelle ne vous convient plus\, elle est en désaccord\, pour ne pas dire en dysharmonie avec vos envies profondes\, vos valeurs\, vos représentations ? Vous souhaitez changer\, faire émerger un projet\, réorienter votre parcours de vie ou plus simplement faire le point sur votre situation et rencontrer d’autres acteurs du changement ? \nÀ l’occasion de ce parcours\, vous pourrez partager des témoignages\, découvrir et pratiquer les différents « outils » qui accompagnent le changement\, permettent de qualifier un projet\, ou d’accompagner une action. Vous travaillerez sur vos intentions\, les raisons profondes qui vous amènent à vous mettre en marche\, mais aussi sur les freins qui vous en empêchent.  \n			\n			\n				\n				\n			\n				\n				\n				\n				\n				\n				\n				De l’intention au projet\, du projet à la mise en œuvre\, retrouver les chemins de l’équilibre. Décoloniser votre imaginaire\, afin de marcher vos mots et incarner vos rêves. \n			\n				\n				\n				Pour vous accompagner \nEric JULIEN\, 62 ans\, diplômé en Sciences politiques\, Géographe accompagnateur de montagne (DE)\, il a complété son parcours par une maîtrise des sciences et techniques de la communication (MTSC). Consultant spécialisé dans l’intelligence collective et l’accompagnement du changement.«La crise est avant tout une crise du regard»\, aime-t-il à rappeler. Il se présente souvent comme «explorateur d’interstices»\, à la recherche des possibles de transformation des hommes et des organisations. Sa vie et ses recherches oscillent entre notre modernité et la tradition des indiens Kogis (Colombie). \nChristine MARSAN\, entre Paris et Biarritz\, 53 ans. Psycho-sociologue\, elle a créé les Ateliers de la Mutation. Exécutive coach\, consultante en accompagnement du changement et des mutations [Mut & Sens]\, elle concilie dans les organisations performance et humanisme. Spécialiste en intelligence collective\, elle facilite des groupes depuis 26 ans\, aussi bien en développement personnel qu’en accompagnement au changement dans les organisations. Sa vie et ses recherches sont pilotées par deux citations qu’elle tente de vivre au quotidien : «Marcher sa parole» [tradition amérindienne]\, et «Soyons le changement que nous voulons pour le monde» [Gandhi]. \n			\n			\n				\n				\n				\n				\n				\n				\n			\n				\n				\n				Lieux : \n\nLe centre agro-écologique des Amanins\,\nla Grange aux Loupiots à Montlahuc\, et\nl’école primaire Caminando au Château St Ferréol à Menglon (Drôme)\n\nAccès au premier lieu depuis la gare SNCF Valence TGV puis correspondance TER jusqu‘à CREST. Déplacement pendant le stage avec les voitures particulières des participants. \n			\n				\n				\n				\nFiche technique\nBulletin d’inscription\nAdhésion à l’association
URL:https://www.ecolenaturesavoirs.com/event/piloter-sa-transition-novembre-2023/
LOCATION:Les Amanins\, Les Rouins\, La Roche-Sur-Grâne\, 26400\, France
CATEGORIES:epns,Grand public,Piloter sa transition
END:VEVENT
END:VCALENDAR