BEGIN:VCALENDAR
VERSION:2.0
PRODID:-//École Pratique de la Nature et des Savoirs - ECPv6.2.6//NONSGML v1.0//EN
CALSCALE:GREGORIAN
METHOD:PUBLISH
X-ORIGINAL-URL:https://www.ecolenaturesavoirs.com
X-WR-CALDESC:évènements pour École Pratique de la Nature et des Savoirs
REFRESH-INTERVAL;VALUE=DURATION:PT1H
X-Robots-Tag:noindex
X-PUBLISHED-TTL:PT1H
BEGIN:VTIMEZONE
TZID:Europe/Paris
BEGIN:DAYLIGHT
TZOFFSETFROM:+0100
TZOFFSETTO:+0200
TZNAME:CEST
DTSTART:20230326T010000
END:DAYLIGHT
BEGIN:STANDARD
TZOFFSETFROM:+0200
TZOFFSETTO:+0100
TZNAME:CET
DTSTART:20231029T010000
END:STANDARD
END:VTIMEZONE
BEGIN:VEVENT
DTSTART;TZID=Europe/Paris:20231030T150000
DTEND;TZID=Europe/Paris:20231102T160000
DTSTAMP:20260425T163353
CREATED:20230927T120156Z
LAST-MODIFIED:20230927T121550Z
UID:7791-1698678000-1698940800@www.ecolenaturesavoirs.com
SUMMARY:Re connexion Nature « Enseigner dehors »
DESCRIPTION:VACANCES DE LA TOUSSAINT 2023 \nEn ces temps d’incertitude\, «faire un pas de côté» sur notre quotidien\, est peut-être le moyen de retrouver de l’élan\, avec soi\, les autres et le vivant. Comment nos intentions pédagogiques peuvent-elles s’incarner dans l’action et dehors ? En quoi le «vivre dehors» est un enjeu fondamental pour l’esprit humain ? Une quête de sens ? Des sens ? Et comment le transmettre ? \nIl est avant tout question de plaisir dans cette proposition de partager quelques jours ensemble à La Comtesse\, avec un équipage qui connaît bien le lieu\, et se rassemble pour vous accompagner dans ce séjour hors du commun. \nCes quatre jours dans le Haut-Diois sont une invitation à repenser nos pratiques pédagogiques\, d’animation de groupes à l’extérieur\, pour se (re)mettre en lien avec le vivant.Du site en immersion nature de la Comtesse\, on redescend différent paraît-il… \n\n\n\n\n\n\n			\n			\n				\n				\n				\n				\n				\n				\n			\n				\n				\n				\nFiche technique\nBulletin d’inscription\nBulletin d’adhésion à l’association
URL:https://www.ecolenaturesavoirs.com/event/re-connexion-nature-enseigner-dehors/
LOCATION:La Comtesse\, Chemin du Villard\, Val-Maravel France\, 26310\, France
CATEGORIES:epns,Pratiques pédagogiques vivantes
ORGANIZER;CN="Muriel Fifils":MAILTO:ecole.caminando@gmail.com
END:VEVENT
END:VCALENDAR