BEGIN:VCALENDAR
VERSION:2.0
PRODID:-//École Pratique de la Nature et des Savoirs - ECPv6.2.6//NONSGML v1.0//EN
CALSCALE:GREGORIAN
METHOD:PUBLISH
X-ORIGINAL-URL:https://www.ecolenaturesavoirs.com
X-WR-CALDESC:évènements pour École Pratique de la Nature et des Savoirs
REFRESH-INTERVAL;VALUE=DURATION:PT1H
X-Robots-Tag:noindex
X-PUBLISHED-TTL:PT1H
BEGIN:VTIMEZONE
TZID:Europe/Paris
BEGIN:DAYLIGHT
TZOFFSETFROM:+0100
TZOFFSETTO:+0200
TZNAME:CEST
DTSTART:20230326T010000
END:DAYLIGHT
BEGIN:STANDARD
TZOFFSETFROM:+0200
TZOFFSETTO:+0100
TZNAME:CET
DTSTART:20231029T010000
END:STANDARD
END:VTIMEZONE
BEGIN:VEVENT
DTSTART;VALUE=DATE:20231001
DTEND;VALUE=DATE:20231006
DTSTAMP:20260425T180952
CREATED:20230413T163115Z
LAST-MODIFIED:20230413T163312Z
UID:7701-1696118400-1696550399@www.ecolenaturesavoirs.com
SUMMARY:Tisser sa toile à la lisière - octobre 2023
DESCRIPTION:Présentation \nPlusieurs traditions amérindiennes honorent l’araignée\, qui tisse sa propre toile comme un cocon qui la protège\, qui capte les rêves que le Grand-Esprit leur envoie\, et qui tisse la trame de la vie où tout est relié. \nÀ travers des histoires\, des pratiques de reconnexion\, des approches artistiques et rituelles issues des traditions dineh (navajo) et lakota\, le Cercle nous accompagnera dans la réalisation de notre « ouvrage intérieur ». \nÀ la lisière entre les mondes\, l’intérieur et l’extérieur\, le sauvage et le domestiqué\, les racines et la modernité\, l’été et l’hiver\, le chaud et le froid\, nous tisserons notre toile entre les opposés complémentaires\, pour apprendre cultiver l’équilibre. \n			\n			\n				\n				\n				\n				\n				\n				Organisation \nChaque Cercle prend la forme d’un parcours d’expériences simples et accessibles à tous (chant\, danse\, cercles de paroles\, pratiques artistiques\, connexion à la nature\, gestes premiers…) et de partages autour de ces visions racines\, pour se reconnecter à soi\, au « nous »\, à la nature et au Vivant. Il se propose d’accompagner un processus vivant. Pour cette raison\, il ne présente pas de programme fixe et invite\, le temps de quelques jours\, à épouser le mouvement et le temps du vivant. \n14 participant•es maximum. En cas de nombre insuffisant d’inscrits un mois avant\, nous nous réservons la possibilité d’annuler. Merci de penser à réserver au plus tôt. \nPour plus d’informations (envoyez-nous de préférence un mail) : lecercledespasseurs@gmail.com – 07 56 80 70 11 
URL:https://www.ecolenaturesavoirs.com/event/tisser-sa-toile-a-la-lisiere-octobre-2023/
LOCATION:La Belle Terre\, 510\, chemin des Grangeasses\, Saint-Romain-de-Lerps\, 07130\, France
CATEGORIES:Le Cercle des passeurs,Partenaire
END:VEVENT
END:VCALENDAR