BEGIN:VCALENDAR
VERSION:2.0
PRODID:-//École Pratique de la Nature et des Savoirs - ECPv6.2.6//NONSGML v1.0//EN
CALSCALE:GREGORIAN
METHOD:PUBLISH
X-ORIGINAL-URL:https://www.ecolenaturesavoirs.com
X-WR-CALDESC:évènements pour École Pratique de la Nature et des Savoirs
REFRESH-INTERVAL;VALUE=DURATION:PT1H
X-Robots-Tag:noindex
X-PUBLISHED-TTL:PT1H
BEGIN:VTIMEZONE
TZID:Europe/Paris
BEGIN:DAYLIGHT
TZOFFSETFROM:+0100
TZOFFSETTO:+0200
TZNAME:CEST
DTSTART:20230326T010000
END:DAYLIGHT
BEGIN:STANDARD
TZOFFSETFROM:+0200
TZOFFSETTO:+0100
TZNAME:CET
DTSTART:20231029T010000
END:STANDARD
END:VTIMEZONE
BEGIN:VEVENT
DTSTART;TZID=Europe/Paris:20230622T140000
DTEND;TZID=Europe/Paris:20230626T160000
DTSTAMP:20260426T004235
CREATED:20230216T101521Z
LAST-MODIFIED:20230222T212248Z
UID:7423-1687442400-1687795200@www.ecolenaturesavoirs.com
SUMMARY:Des voix de la terre aux voies de la guérison module 1 juin 2023
DESCRIPTION:Nature\, résilience…\nNous sommes des vivants\, parmi les vivants\, mais nous l’avons oublié. Il faudrait remettre la nature dans nos actes et nos pensées. Retrouver le vivant en nous et autour de nous\, mais comment faire\, voilà la question. La Crise de la COVID 19 est autant l’illustration de cet oubli que le signe annonciateur des déséquilibres majeurs qui vont se multiplier. \nPendant ces 4 jours d’immersion nature venez à votre rencontre\, vous mettre à l’écoute de ce qui « est »\, la nature en nous et autour de nous. Un chemin de résilience qui vous permettra de découvrir et pratiquer ces règles immuables qui fondent la vie\, ce que les indiens Kogis ont appelé les « lois de Sé »\, ou lois des origines… \n…et transition\nRepartir comme avant ? Tout miser sur la technologie\, parier sur la décroissance ? Nous le savons\, ce n’est pas en faisant plus ou mieux de la même chose que nous obtiendrons des résultats différents. Il faut imaginer autre chose\, un « autre chose »\, qui rééquilibre le féminin et le masculin\, qui retrouve des liens d’alliance avec cette nature qui nous porte et nous fait vivre. \nQue nous en disent les traditions Kogis et Aruaca ? Comment réintégrer ces principe sde vie dans notre quotidien ? C’est un art à redécouvrir\, celui de l’éveil et de la résilience. La voie du HOZHO chez les indiens Navajo\, ZIGONESHI chez les Kogis. \nC’est le chemin de la vie et de la joie. \n			\n			\n				\n				\n				\n				\n				\n				Intentions\n\nVivre un temps « intensément nature » de reconnexion à l’essence -ciel.\nRevisiter son parcours de vie\, identifier les temps/ étapes de déconnexions / reconnexion.\nIdentifier\, conscientiser les principes qui fondent la vie\, dont la nature est l’expression.\nSe reconnecter à la liberté joyeuse de l’enfant intérieur.\nDévelopper ses capacités d’autonomie et de responsabilité en nature \n\nPrincipes pédagogiques\nGrandir ensemble en humanité\, sans doute est-ce l’ultime intention des parcours que nous mettons en œuvre. Nous associons apports théorique\, expérience « nature »\, temps de co-construction\, travail personnel\, présence de grands témoins et mise en résonnance de nos parcours singuliers\, avec les principes de vie universel qui sous-tendent la culture Kogis. \nInformations pratiques\n\nDates : du jeudi 22 au lundi 26 juin 2023\nLieu : La Comtesse\, site d’immersion nature dans le Haut-Diois\nAnimation : Éric Julien\nParticipants : 10 à 20 personnes\nTarif : 590€ (encadrement\, logistique et repas)\n\nTéléchargements\n\nFiche technique\nBulletin d’inscription\nBulletin d’adhésion
URL:https://www.ecolenaturesavoirs.com/event/des-voix-de-la-terre-aux-voies-de-la-guerison-module-1-juin-2023/
LOCATION:La Comtesse\, Chemin du Villard\, Val-Maravel France\, 26310\, France
CATEGORIES:epns,Grand public,La voie (x) de la nature
END:VEVENT
END:VCALENDAR