BEGIN:VCALENDAR
VERSION:2.0
PRODID:-//École Pratique de la Nature et des Savoirs - ECPv6.2.6//NONSGML v1.0//EN
CALSCALE:GREGORIAN
METHOD:PUBLISH
X-WR-CALNAME:École Pratique de la Nature et des Savoirs
X-ORIGINAL-URL:https://www.ecolenaturesavoirs.com
X-WR-CALDESC:évènements pour École Pratique de la Nature et des Savoirs
REFRESH-INTERVAL;VALUE=DURATION:PT1H
X-Robots-Tag:noindex
X-PUBLISHED-TTL:PT1H
BEGIN:VTIMEZONE
TZID:Europe/Paris
BEGIN:DAYLIGHT
TZOFFSETFROM:+0100
TZOFFSETTO:+0200
TZNAME:CEST
DTSTART:20230326T010000
END:DAYLIGHT
BEGIN:STANDARD
TZOFFSETFROM:+0200
TZOFFSETTO:+0100
TZNAME:CET
DTSTART:20231029T010000
END:STANDARD
END:VTIMEZONE
BEGIN:VEVENT
DTSTART;VALUE=DATE:20230612
DTEND;VALUE=DATE:20230617
DTSTAMP:20260426T003755
CREATED:20230413T162120Z
LAST-MODIFIED:20230413T162332Z
UID:7690-1686528000-1686959999@www.ecolenaturesavoirs.com
SUMMARY:Rentrer en soi\, sortir du bois - juin 2023
DESCRIPTION:Présentation \nPeinture de sable contemporaine\, arts premiers\, connexion nature\, jeux\, humour et peut-être cascades… nous accompagneront\, à la lisière des mondes\, pour puiser dans nos profondeurs au sortir de l’hiver avant de sortir du bois : c’est là que nous rencontrerons Coyote… \nDans les traditions amérindiennes\, Coyote est un personnage sacré qui vient parfois chambouler l’ordre établi\, mais toujours pour remettre la vie en mouvement. Dans le mythe dineh (navajo)\, il est aussi créateur du monde. On l’appelle aussi le trickster. Ce Cercle des Passeurs nous amènera à en croiser quelques spécimen\, histoire d’éveiller celui qui sommeille en chacun… \n			\n			\n				\n				\n				\n				\n				\n				Organisation \nChaque Cercle prend la forme d’un parcours d’expériences simples et accessibles à tous (chant\, danse\, cercles de paroles\, pratiques artistiques\, connexion à la nature\, gestes premiers…) et de partages autour de ces visions racines\, pour se reconnecter à soi\, au « nous »\, à la nature et au Vivant. Il se propose d’accompagner un processus vivant. Pour cette raison\, il ne présente pas de programme fixe et invite\, le temps de quelques jours\, à épouser le mouvement et le temps du vivant. \n14 participant•es maximum. En cas de nombre insuffisant d’inscrits un mois avant\, nous nous réservons la possibilité d’annuler. Merci de penser à réserver au plus tôt. \nPour plus d’informations (envoyez-nous de préférence un mail) : lecercledespasseurs@gmail.com – 07 56 80 70 11 
URL:https://www.ecolenaturesavoirs.com/event/rentrer-en-soi-sortir-du-bois-juin-2023/
LOCATION:La Comtesse\, Chemin du Villard\, Val-Maravel France\, 26310\, France
CATEGORIES:Le Cercle des passeurs,Partenaire
END:VEVENT
END:VCALENDAR